BEGIN:VCALENDAR
VERSION:2.0
PRODID:-//wp-events-plugin.com//7.2.3.1//EN
TZID:Europe/Berlin
X-WR-TIMEZONE:Europe/Berlin
BEGIN:VEVENT
UID:41@buehnenwirtshaeuser.at
DTSTART;TZID=Europe/Berlin:20261201T203000
DTEND;TZID=Europe/Berlin:20261201T203000
DTSTAMP:20260413T132617Z
URL:https://www.buehnenwirtshaeuser.at/events/walter-kammerhofer-oh-du-fro
 ehlicher/
SUMMARY:Walter Kammerhofer "Oh du Fröhlicher...
DESCRIPTION:Sie\, die Wichtige\, hat seit Mitte Oktober Weihnachtsstress. E
 r\, der Walter\, auch. Achtzehn Weihnachtsfeiern musste er bereits durchli
 egen.  \n\nUnd jetzt noch der Tannenbaum\, ein Traum … ein Albtraum. Zu
 erst bricht der patentierte Standfuß ab und dann die Panik aus. Was tun\,
  wenn man Heilig Abend keinen Ständer mehr bekommt?\n\nDas ganze Jahr ist
  Walter punschlos glücklich. Und dann kommt dieser Fest-Tag. Raclette\, F
 ondue\, Weihrauch und eine kleine Grippe für den einzigen Esel im Haus.\n
 \nEndlich wird es Abend. Das Glöckchen läutet. Steht das Christkind vor 
 der Tür? Nein. Die Schwiegermutter. Halleluja!\n\nFeiern Sie mit Walter K
 ammerhofer ein einmaliges Fest.\nSo haben Sie Weihnachten noch nicht erleb
 t (und wollen es wahrscheinlich auch nicht).\n\nOh du Fröhlicher … ein 
 heiliger Abend\, aber andersrum.
ATTACH;FMTTYPE=image/jpeg:https://www.buehnenwirtshaeuser.at/wp-content/up
 loads/2026/04/Oh-Du-Froehlicher.jpg
CATEGORIES:Theater/Kabarett
LOCATION:Aignerei\, Bodensdorf 8\, Wieselburg\, 3250\, Österreich
GEO:48.117312;15.118232
X-APPLE-STRUCTURED-LOCATION;VALUE=URI;X-ADDRESS=Bodensdorf 8\, Wieselburg\,
  3250\, Österreich;X-APPLE-RADIUS=100;X-TITLE=Aignerei:geo:48.117312,15.1
 18232
END:VEVENT
BEGIN:VTIMEZONE
TZID:Europe/Berlin
X-LIC-LOCATION:Europe/Berlin
BEGIN:STANDARD
DTSTART:20261025T020000
TZOFFSETFROM:+0200
TZOFFSETTO:+0100
TZNAME:CET
END:STANDARD
END:VTIMEZONE
END:VCALENDAR