BEGIN:VCALENDAR
VERSION:2.0
PRODID:-//wp-events-plugin.com//7.2.3.1//EN
TZID:Europe/Berlin
X-WR-TIMEZONE:Europe/Berlin
BEGIN:VEVENT
UID:66@buehnenwirtshaeuser.at
DTSTART;TZID=Europe/Berlin:20260430T193000
DTEND;TZID=Europe/Berlin:20260430T213000
DTSTAMP:20260420T134631Z
URL:https://www.buehnenwirtshaeuser.at/events/vom-tatort-zur-anklagebank-e
 in-blick-hinter-die-kulissen-der-strafjustiz/
SUMMARY:Vom Tatort zur Anklagebank – ein Blick hinter die Kulissen der St
 rafjustiz
DESCRIPTION:PODIUMSGESPRÄCH\, Idee Franz Zeller\nVom Tatort zur Anklageban
 k – ein Blick hinter die Kulissen der Strafjustiz\nWie läuft ein Strafv
 erfahren tatsächlich ab – jenseits von Fernsehserien und Hollywood-Klis
 chees? Welche Rolle spielen Staatsanwaltschaft und Gericht im Ermittlungsv
 erfahren? Und wie wird aus einem Tatverdacht eine Anklage?\nDiesen und wei
 teren Fragen widmen sich der Staatsanwalt Thomas Korntheuer und der Eichgr
 abner Strafrichter Gregor Adamovich in einem gemeinsamen Vortrag\, der int
 eressierten Bürgerinnen und Bürgern einen authentischen Einblick in die 
 Praxis der Strafjustiz bietet. Denn nicht immer verstehen Laien\, warum ei
 n Verfahren eingestellt wird oder Menschen mit hoher krimineller Energie n
 icht hinter Gittern landen.\nUnter dem Titel „Vom Tatort zur Anklagebank
 “ stellen Korntheuer und Adamovich den Weg eines Strafverfahrens von den
  ersten Ermittlungen bis zur gerichtlichen Entscheidung anschaulich dar. D
 abei erklären sie auch die grundlegenden rechtlichen Abläufe in einem Re
 chtsstaat einfach und verständlich.\nDer Vortrag möchte nicht nur inform
 ieren\, sondern auch mit verbreiteten Missverständnissen aufräumen und z
 eigen\, wie sich die Realität der Strafverfolgung von der Darstellung in 
 (insbesondere amerikanischen) Film- und Fernsehproduktionen unterscheidet.
 \nIm Anschluss besteht die Möglichkeit\, Fragen zu stellen und mit den Vo
 rtragenden ins Gespräch zu kommen.
CATEGORIES:Vortrag
LOCATION:Galerie Eichgraben\, Kirchenstraße 15\, Eichgraben\, 3032\, Öste
 rreich
X-APPLE-STRUCTURED-LOCATION;VALUE=URI;X-ADDRESS=Kirchenstraße 15\, Eichgra
 ben\, 3032\, Österreich;X-APPLE-RADIUS=100;X-TITLE=Galerie Eichgraben:geo
 :0,0
END:VEVENT
BEGIN:VTIMEZONE
TZID:Europe/Berlin
X-LIC-LOCATION:Europe/Berlin
BEGIN:DAYLIGHT
DTSTART:20260329T030000
TZOFFSETFROM:+0100
TZOFFSETTO:+0200
TZNAME:CEST
END:DAYLIGHT
END:VTIMEZONE
END:VCALENDAR