BEGIN:VCALENDAR
VERSION:2.0
PRODID:-//wp-events-plugin.com//7.2.3.1//EN
TZID:Europe/Berlin
X-WR-TIMEZONE:Europe/Berlin
BEGIN:VEVENT
UID:64@buehnenwirtshaeuser.at
DTSTART;TZID=Europe/Berlin:20260522T190000
DTEND;TZID=Europe/Berlin:20260522T203000
DTSTAMP:20260420T141130Z
URL:https://www.buehnenwirtshaeuser.at/events/kulturfreitag-ines-haeusler-
 voc-alexander-fitzthum-keys/
SUMMARY:Kulturfreitag - Ines Häusler (voc) & Alexander Fitzthum (keys)
DESCRIPTION:Unser kulturelles Highlight im Sommer ist der Kultur-FREI-Tag. 
 Warum? Freie Bühne\, freier Himmel\, freier Eintritt und ein Feierabend b
 ei gutem Essen\, Getränkespecials und Abendsonne!\n\nPop und Jazz - gefü
 hlvoll\, lebendig\, nah am Publikum.\nTauchen Sie ein\, lassen Sie sich mi
 tnehmen auf eine musikalische Reise voller vertrauter Melodien und neuer K
 langmomente.
CATEGORIES:Musik
LOCATION:Aignerei\, Bodensdorf 8\, Wieselburg\, 3250\, Österreich
GEO:48.117312;15.118232
X-APPLE-STRUCTURED-LOCATION;VALUE=URI;X-ADDRESS=Bodensdorf 8\, Wieselburg\,
  3250\, Österreich;X-APPLE-RADIUS=100;X-TITLE=Aignerei:geo:48.117312,15.1
 18232
END:VEVENT
BEGIN:VTIMEZONE
TZID:Europe/Berlin
X-LIC-LOCATION:Europe/Berlin
BEGIN:DAYLIGHT
DTSTART:20260329T030000
TZOFFSETFROM:+0100
TZOFFSETTO:+0200
TZNAME:CEST
END:DAYLIGHT
END:VTIMEZONE
END:VCALENDAR