BEGIN:VCALENDAR
VERSION:2.0
PRODID:-//wp-events-plugin.com//7.2.3.1//EN
TZID:Europe/Berlin
X-WR-TIMEZONE:Europe/Berlin
BEGIN:VEVENT
UID:65@buehnenwirtshaeuser.at
DTSTART;TZID=Europe/Berlin:20260426T180000
DTEND;TZID=Europe/Berlin:20260426T193000
DTSTAMP:20260420T145044Z
URL:https://www.buehnenwirtshaeuser.at/events/konzert-der-oesterreichische
 n-blockfloetenbigband/
SUMMARY:Konzert der Österreichischen Blockflötenbigband - ÖBBB
DESCRIPTION:Zum 2. Mal findet das Konzert der ÖBBB\, der Österreichischen
  Blockflötenbigband statt\, das im vergangenen Jahr viele Besucher und de
 n ORF in die Galerie lockte.\nDie Österreichische Blockflötenbigband ist
  ein besonderes Ensemble\, das sich der Blockflöte in Big-Band-Besetzung 
 widmet. Sie spielen auf verschiedenen Blockflötengrößen und präsentier
 en ein breites Repertoire\, das oft über klassische Musik hinausgeht.\nDi
 e Idee zum Bigband-Projekt kam Organisatorin Hemma Geitzenauer bei einem A
 ufenthalt in den Niederlanden Ende der 1990er Jahre. „Dort war ich bei d
 er Gründung eines Musikprojekts dabei\, wo ein Doppelsextett mit Blockfl
 öten gespielt hat. Und wir haben dann noch mehr daraus gemacht“\, so Ge
 itzenauer.\nBegonnen hat man in Niederösterreich mit rund 20 bis 30 Musik
 ern\, über die Jahre ist man immer weiter gewachsen. Mittlerweile stellt 
 die Bigband eine 100-köpfige Besetzung mit Flötistinnen und Flötisten a
 us fast allen Bundesländern im Alter von 10 bis 80 Jahren.
ATTACH;FMTTYPE=image/jpeg:https://www.buehnenwirtshaeuser.at/wp-content/up
 loads/2026/04/IMG-20260420-WA0004.jpg
CATEGORIES:Musik
LOCATION:Galerie Eichgraben\, Kirchenstraße 15\, Eichgraben\, 3032\, Öste
 rreich
X-APPLE-STRUCTURED-LOCATION;VALUE=URI;X-ADDRESS=Kirchenstraße 15\, Eichgra
 ben\, 3032\, Österreich;X-APPLE-RADIUS=100;X-TITLE=Galerie Eichgraben:geo
 :0,0
END:VEVENT
BEGIN:VTIMEZONE
TZID:Europe/Berlin
X-LIC-LOCATION:Europe/Berlin
BEGIN:DAYLIGHT
DTSTART:20260329T030000
TZOFFSETFROM:+0100
TZOFFSETTO:+0200
TZNAME:CEST
END:DAYLIGHT
END:VTIMEZONE
END:VCALENDAR