BEGIN:VCALENDAR
VERSION:2.0
PRODID:-//wp-events-plugin.com//7.2.3.1//EN
TZID:Europe/Berlin
X-WR-TIMEZONE:Europe/Berlin
BEGIN:VEVENT
UID:52@buehnenwirtshaeuser.at
DTSTART;TZID=Europe/Berlin:20260508T193000
DTEND;TZID=Europe/Berlin:20260508T193000
DTSTAMP:20260413T081453Z
URL:https://www.buehnenwirtshaeuser.at/events/gwoelb-live-andreas-boeck/
SUMMARY:GWÖLB Live: Andreas Böck.
DESCRIPTION:Ein Abend\, ein Klavier\, eine Stimme: Andreas Böck.\n\nIntim\
 , ehrlich und handgemacht. Andreas Böck präsentiert sein Solo Programm u
 nd spannt einen Bogen von klassischen Elementen bis hin zum Rhythm and Blu
 es\, eine Mischung aus Eigenkompositionen und persönlichen Geschichten.\n
 Zwischen melancholischen Balladen und humorvoll-nachdenklichen Zwischenmod
 erationen entführt Andreas Böck das Publikum in eine Welt\, die ohne gro
 ße Showeffekte auskommt.\nNur Musik\, Text und Leidenschaft. Support komm
 t von Jakob Krisper am Cello.\n\nMit Unterstützung der Stadtgemeinde Korn
 euburg.\n\nEinlass 18:00 Uhr\, Beginn 19:30 Uhr\, Eintritt Euro 20\,00.\n\
 nFoto: Andreas Böck\, Jakob Krisper.\n\nhttps://www.abmusic.at/\n\nhttps:
 //www.krisper.at/
ATTACH;FMTTYPE=image/jpeg:https://www.buehnenwirtshaeuser.at/wp-content/up
 loads/2026/04/3634_4015.jpeg
CATEGORIES:Sonstige
LOCATION:Gwölb Bier & Kultur\, Hauptplatz 20\, Korneuburg\, 2100\, Österr
 eich
X-APPLE-STRUCTURED-LOCATION;VALUE=URI;X-ADDRESS=Hauptplatz 20\, Korneuburg\
 , 2100\, Österreich;X-APPLE-RADIUS=100;X-TITLE=Gwölb Bier & Kultur:geo:0
 ,0
END:VEVENT
BEGIN:VTIMEZONE
TZID:Europe/Berlin
X-LIC-LOCATION:Europe/Berlin
BEGIN:DAYLIGHT
DTSTART:20260329T030000
TZOFFSETFROM:+0100
TZOFFSETTO:+0200
TZNAME:CEST
END:DAYLIGHT
END:VTIMEZONE
END:VCALENDAR