BEGIN:VCALENDAR
VERSION:2.0
PRODID:-//wp-events-plugin.com//7.2.3.1//EN
TZID:Europe/Berlin
X-WR-TIMEZONE:Europe/Berlin
BEGIN:VEVENT
UID:67@buehnenwirtshaeuser.at
DTSTART;TZID=Europe/Berlin:20260510T090000
DTEND;TZID=Europe/Berlin:20260510T140000
DTSTAMP:20260420T144908Z
URL:https://www.buehnenwirtshaeuser.at/events/fruehschoppen-zum-muttertag-
 mit-claudia-scharwitzl/
SUMMARY:Frühschoppen zum Muttertag mit Claudia Scharwitzl
DESCRIPTION:Als Auftakt zu einer Serie von Frühschoppen mit Musik in der B
 ruckmeierei in Eichgraben\, nur 200m von der Galerie Eichgraben entfernt\,
  freuen wir uns\, Sie zu einem ganz besonderen Musikgenuss einzuladen. Cla
 udia Scharwitzl wird diesen Muttertag musikalisch hochkarätig untermalen.
 \n\nNähere Information zur Bruckmeierei finden Sie hier - Die Bruckmeiere
 i
ATTACH;FMTTYPE=image/jpeg:https://www.buehnenwirtshaeuser.at/wp-content/up
 loads/2026/04/IMG-20260420-WA0006.jpg
CATEGORIES:Kulinarik/Wein,Musik
LOCATION:Galerie Eichgraben\, Kirchenstraße 15\, Eichgraben\, 3032\, Öste
 rreich
X-APPLE-STRUCTURED-LOCATION;VALUE=URI;X-ADDRESS=Kirchenstraße 15\, Eichgra
 ben\, 3032\, Österreich;X-APPLE-RADIUS=100;X-TITLE=Galerie Eichgraben:geo
 :0,0
END:VEVENT
BEGIN:VTIMEZONE
TZID:Europe/Berlin
X-LIC-LOCATION:Europe/Berlin
BEGIN:DAYLIGHT
DTSTART:20260329T030000
TZOFFSETFROM:+0100
TZOFFSETTO:+0200
TZNAME:CEST
END:DAYLIGHT
END:VTIMEZONE
END:VCALENDAR