BEGIN:VCALENDAR
VERSION:2.0
PRODID:-//wp-events-plugin.com//7.2.3.1//EN
TZID:Europe/Berlin
X-WR-TIMEZONE:Europe/Berlin
BEGIN:VEVENT
UID:16@buehnenwirtshaeuser.at
DTSTART;TZID=Europe/Berlin:20260425T200000
DTEND;TZID=Europe/Berlin:20260425T200000
DTSTAMP:20260413T124429Z
URL:https://www.buehnenwirtshaeuser.at/events/alter-nicer-mann-gerald-flei
 schhacker-ist-zurueck/
SUMMARY:„ALTER NICER MANN“ – Gerald Fleischhacker ist zurück!
DESCRIPTION:„ALTER NICER MANN“ – Gerald Fleischhacker ist zurück!\n\
 n- das neue SOLO-Programm von Gerald Fleischhacker\n\nDer Großmeister des
  Pointenhagels bringt sein bereits 6. Soloprogramm auf die Kabarettbühnen
  des Landes – und es wird - wie schon in seinen bisherigen Stücken - ei
 n Feuerwerk aus Witz und Wahrheit! - nur nicht so laut – er ist ja schon
  über 50”\n\n“Was passiert\, wenn man sich noch wie 25 fühlt\, aber 
 die Realität und der Rücken die Sache anders sehen? Warum wird der Hund 
 gelobt wenn er in den Garten macht und ich geschimpft?” Gerald Fleischha
 cker nimmt sich selbst nicht so ernst\, das Leben mit Humor und sein Publi
 kum mit auf eine irrwitzige Reise durch die Tücken des modernen Alltags. 
 Ein Alltag\, der ihn zunehmend fragend zurücklässt. Gerade war er noch d
 er coole jugendliche “Dude”\, mit dem alle gerne abhängen - auf einma
 l wird er sogar von der eigenen Frau als „typischer Cis Mann“ abgestem
 pelt. Und fragt sich\, warum er dabei an den Musikunterricht in der Schule
  denken muss.\n\nFamilienchaos\, Technik-Wahn\, der tägliche Irrsinn mit 
 dem Internet und dem echten Leben\, ganz zu schweigen von den ewigen Kommu
 nikationsschwierigkeiten zwischen Mann und Frau - da kann nicht mal Duolin
 go helfen. Gerald Fleischhacker bringt alles auf den Punkt: scharfzüngig\
 , gnadenlos lustig und verdammt nah am echten Leben!\n\nEin Abend mit Gera
 ld Fleischhacker ist wie eine Flasche alter Rotwein: Reif\, vielleicht mit
  einem Hauch von Kork\, aber dafür mit ordentlich Wumms. Und vor allem LI
 VE viel besser als im Fernsehen :-)\, was auch die Presse bestätigt.\n\n
 „lustig sein kann er“ - Kleine Zeitung\n„gewohnt Pointenreich“ - 
 Ö1\n„mit das Beste was es derzeit auf Kabarettbühnen gibt“ - Kurier\
 n\nSaukomisch\, pointiert und immer auf den Punkt! - ab 24. Februar …\n\
 nWann: Sa. 25. April 2026\n\nWo: in der Lössiade\, in der Absberger Kelle
 rgasse\n\nEinlass: ab 19.00 Uhr\n\nBeginn: 20.00 Uhr\n\nEintritt: € 28\,
 - - freie Sitzplatzwahl\n\n&nbsp\;\n\nIm gut temperierten Veranstaltungske
 ller sorgen gepolsterte Stühle und eine kuschelige Decke für Ihr Wohlbef
 inden!\n\nZusätzlich gibt es in beiden geheizten Presshäusern ein Buffet
 -Angebot\, Brötchen\, Kuchen\, Kaffee\, Tee\, Limonaden und Weinen!\n\nWi
 r freuen uns auf Ihren Besuch und wünschen Ihnen eine gute Anreise!\n\nRe
 servierung bei Martin Schmit unter:\n\nTel. 0650 8707309\n\nOder per Mailr
 eservierung:\nhttps://www.xn--lssiade-90a.at/termine-oeffnungszeiten-und-s
 peisen/kultur/kabarett-mit-gerald-fleischhacker/index.php
ATTACH;FMTTYPE=image/jpeg:https://www.buehnenwirtshaeuser.at/wp-content/up
 loads/2026/02/3618_3999.jpeg
CATEGORIES:Theater/Kabarett
LOCATION:Lössiade\, Absberger Kellergasse\, Absdorf\, 3462\, Österreich
GEO:48.418579;15.970342
X-APPLE-STRUCTURED-LOCATION;VALUE=URI;X-ADDRESS=Absberger Kellergasse\, Abs
 dorf\, 3462\, Österreich;X-APPLE-RADIUS=100;X-TITLE=Lössiade:geo:48.4185
 79,15.970342
END:VEVENT
BEGIN:VTIMEZONE
TZID:Europe/Berlin
X-LIC-LOCATION:Europe/Berlin
BEGIN:DAYLIGHT
DTSTART:20260329T030000
TZOFFSETFROM:+0100
TZOFFSETTO:+0200
TZNAME:CEST
END:DAYLIGHT
END:VTIMEZONE
END:VCALENDAR